BEGIN:VCALENDAR
VERSION:2.0
PRODID:-//destination.one//NONSGML destination.meta API//DE
X-WR-CALDESC:A calendar powered by destination.meta
X-WR-CALNAME:visitessen Kalender via destination.meta
BEGIN:VEVENT
CATEGORIES:Vortrag/Lesung
DESCRIPTION:\n\nmehr Informationen unter http://pages.destination.one/de/vi
 sitessen/streaming/detail/Event/e_101202493/buchpr-sentation-undercover-un
 ter-nazis-als-frau-im-herz-der-rechtsextremen-szene
DTEND;TZID=Europe/Berlin:20260422T193000
DTSTAMP:20260420T183223Z
DTSTART;TZID=Europe/Berlin:20260422T180000
GEO:51.455125;7.013904
LOCATION:Volkshochschule Essen\, Burgplatz 1\, Essen
ORGANIZER;CN=Volkshochschule Essen:mailto:info@vhs-essen.de
SEQUENCE:0
SUMMARY:Buchpräsentation: „Undercover unter Nazis. Als Frau im Herz der rec
 htsextremen Szene“
UID:e_101202493_iv0
URL:http://pages.destination.one/de/visitessen/streaming/detail/Event/e_101
 202493/buchpr-sentation-undercover-unter-nazis-als-frau-im-herz-der-rechts
 extremen-szene
END:VEVENT
BEGIN:VTIMEZONE
TZID:Europe/Berlin
X-LIC-LOCATION:Europe/Berlin
BEGIN:DAYLIGHT
DTSTART:19700329T020000
RRULE:FREQ=YEARLY;BYDAY=-1SU;BYMONTH=3
TZNAME:CEST
TZOFFSETFROM:+0100
TZOFFSETTO:+0200
END:DAYLIGHT
BEGIN:STANDARD
DTSTART:19701025T030000
RRULE:FREQ=YEARLY;BYDAY=-1SU;BYMONTH=10
TZNAME:CET
TZOFFSETFROM:+0200
TZOFFSETTO:+0100
END:STANDARD
END:VTIMEZONE
END:VCALENDAR
